BEGIN:VCALENDAR
VERSION:2.0
PRODID:SFPL Web Calendar
BEGIN:VEVENT
UID:153119@sfpl.org
DTSTAMP:20260603T220000Z
DTSTART:20260603T220000Z
DTEND:20260603T230000Z
SUMMARY:Workshop: Rainbow Breakfast Bowls with The Breakfast Project
DESCRIPTION:<p>Celebrate the season and make a nutritious rainbow chia porridge breakfast bowl. For children and their caregivers.</p><p>Space limited. Reservations required: (415) 355-5656 or email <a href="mailto:parevent@sfpl.org">parevent@sfpl.org</a> (starting May 3).</p><p>Connect: <a href="https://www.breakfastproject.org/">The Breakfast Project – Website</a></p><p><br>&nbsp;</p>
LOCATION:Park - Park Meeting Room
CLASS:PUBLIC
TRANSP:TRANSPARENT
END:VEVENT
BEGIN:VALARM
TRIGGER:-PT1440M
ACTION:DISPLAY
DESCRIPTION:Event Reminder - Workshop: Rainbow Breakfast Bowls with The Breakfast Project
END:VALARM
END:VCALENDAR