BEGIN:VCALENDAR
VERSION:2.0
PRODID:SFPL Web Calendar
BEGIN:VEVENT
UID:153145@sfpl.org
DTSTAMP:20260709T180000Z
DTSTART:20260709T180000Z
DTEND:20260709T200000Z
SUMMARY:Workshop: Dragon/Box Bookmaking with Alejandra Rubio
DESCRIPTION:<p>Create a unique dragon/box book using origami paper that folds into a compact square and unfolds from a single cover or box. Select favorite papers and add drawings or words that imagine a “better” world—how it looks, feels, tastes, and smells—then assemble all pages into a finished book to take home. For ages 12–18.</p><p><br>&nbsp;</p>
LOCATION:Main Library - Mix: Lounge - 2nd Fl
CLASS:PUBLIC
TRANSP:TRANSPARENT
END:VEVENT
BEGIN:VALARM
TRIGGER:-PT1440M
ACTION:DISPLAY
DESCRIPTION:Event Reminder - Workshop: Dragon/Box Bookmaking with Alejandra Rubio
END:VALARM
END:VCALENDAR