BEGIN:VCALENDAR
VERSION:2.0
PRODID:SFPL Web Calendar
BEGIN:VEVENT
UID:153146@sfpl.org
DTSTAMP:20260813T180000Z
DTSTART:20260813T180000Z
DTEND:20260813T200000Z
SUMMARY:Workshop: DIY Screen Printing with Alejandra Rubio
DESCRIPTION:<p>Create a DIY screen for screenprinting using an embroidery hoop and Mod Podge. Design a print inspired by one item worth carrying everywhere, then bring the image to life through simple, accessible materials found at home. For ages 12–18.</p>
LOCATION:Main Library - Mix: Lounge - 2nd Fl
CLASS:PUBLIC
TRANSP:TRANSPARENT
END:VEVENT
BEGIN:VALARM
TRIGGER:-PT1440M
ACTION:DISPLAY
DESCRIPTION:Event Reminder - Workshop: DIY Screen Printing with Alejandra Rubio
END:VALARM
END:VCALENDAR