BEGIN:VCALENDAR
VERSION:2.0
PRODID:SFPL Web Calendar
BEGIN:VEVENT
UID:154088@sfpl.org
DTSTAMP:20260614T210000Z
DTSTART:20260614T210000Z
DTEND:20260614T224500Z
SUMMARY:Film: Lightyear
DESCRIPTION:<p>Buzz Lightyear from <i>Toy Story</i> is stranded on a hostile planet. Every time he tries to travel home, his friends age four years in the minutes he is gone. Eventually, his best friend’s granddaughter is part of a team that helps Buzz escape the evil Zurg and his dutiful robot army who are never far behind.</p><p>PG, 100 mins., 2022. Closed captions (CC) in English.</p>
LOCATION:Glen Park - Glen Park Meeting Room
CLASS:PUBLIC
TRANSP:TRANSPARENT
END:VEVENT
BEGIN:VALARM
TRIGGER:-PT1440M
ACTION:DISPLAY
DESCRIPTION:Event Reminder - Film: Lightyear
END:VALARM
END:VCALENDAR