BEGIN:VCALENDAR
VERSION:2.0
PRODID:SFPL Web Calendar
BEGIN:VEVENT
UID:154097@sfpl.org
DTSTAMP:20260706T220000Z
DTSTART:20260706T220000Z
DTEND:20260706T230000Z
SUMMARY:Workshop: Hexaflexagons
DESCRIPTION:<p>Cut, fold, tape and color&nbsp;your own hexaflexagons. Your strip of paper will turn into a hexagon that you can keep turning inside out&nbsp;to reveal new colors or pictures.&nbsp;</p><p>For ages 6 and older.</p>
LOCATION:Glen Park - Glen Park Meeting Room
CLASS:PUBLIC
TRANSP:TRANSPARENT
END:VEVENT
BEGIN:VALARM
TRIGGER:-PT1440M
ACTION:DISPLAY
DESCRIPTION:Event Reminder - Workshop: Hexaflexagons
END:VALARM
END:VCALENDAR