BEGIN:VCALENDAR
VERSION:2.0
PRODID:SFPL Web Calendar
BEGIN:VEVENT
UID:154102@sfpl.org
DTSTAMP:20260718T203000Z
DTSTART:20260718T203000Z
DTEND:20260718T213000Z
SUMMARY:Activity: Creative Coding with Python
DESCRIPTION:<p>Learn basic Python<i> </i>language to create pixel art and animation. &nbsp;For ages 10 to 18 years old. &nbsp;</p>
LOCATION:West Portal - West Portal Teen's Area
CLASS:PUBLIC
TRANSP:TRANSPARENT
END:VEVENT
BEGIN:VALARM
TRIGGER:-PT1440M
ACTION:DISPLAY
DESCRIPTION:Event Reminder - Activity: Creative Coding with Python
END:VALARM
END:VCALENDAR