BEGIN:VCALENDAR
VERSION:2.0
PRODID:SFPL Web Calendar
BEGIN:VEVENT
UID:154104@sfpl.org
DTSTAMP:20260613T180000Z
DTSTART:20260613T180000Z
DTEND:20260613T190000Z
SUMMARY:Workshop: Building Bridges with Engineers without Borders
DESCRIPTION:<p>Explore how engineers build bridges that connect communities to essential resources. Listen to stories and practice building a bridge with edible materials.&nbsp;</p><p>Engineers Without Borders - USA San Francisco Professionals (EWB-SFP) was established in September 2004 as the first professional chapter of EWB-USA. Their mission is to support community-driven development programs worldwide through the design and implementation of sustainable engineering projects, while fostering responsible leadership.</p><p>Connect: <a href="https://ewb-sfp.org/">Engineers without Borders - Website</a> | <a href="https://www.youtube.com/channel/UCjy8FYe8X5X7aGjhNsS9K4A">Engineers without Borders - YouTube</a> | <a href="https://www.facebook.com/EWBSFP/">Engineers without Borders - Facebook</a></p>
LOCATION:Golden Gate Valley - Golden Gate Valley Meeting Room
CLASS:PUBLIC
TRANSP:TRANSPARENT
END:VEVENT
BEGIN:VALARM
TRIGGER:-PT1440M
ACTION:DISPLAY
DESCRIPTION:Event Reminder - Workshop: Building Bridges with Engineers without Borders
END:VALARM
END:VCALENDAR