BEGIN:VCALENDAR
VERSION:2.0
PRODID:SFPL Web Calendar
BEGIN:VEVENT
UID:154124@sfpl.org
DTSTAMP:20260626T210000Z
DTSTART:20260626T210000Z
DTEND:20260626T214500Z
SUMMARY:Presentation: A Bit About Bats with NorCal Bats
DESCRIPTION:<p>Meet live bats and learn about the bats of San Francisco, amazing winged wonders. Learn how they fly, what they hunt and echolocation. Bats are vital to gardening and farming due to the quantity of agricultural pests that they consume. Participants will learn about local species and have the opportunity to meet live, native bats.</p>
LOCATION:Bayview/Linda Brooks-Burton - Bayview Meeting Room
CLASS:PUBLIC
TRANSP:TRANSPARENT
END:VEVENT
BEGIN:VALARM
TRIGGER:-PT1440M
ACTION:DISPLAY
DESCRIPTION:Event Reminder - Presentation: A Bit About Bats with NorCal Bats
END:VALARM
END:VCALENDAR