BEGIN:VCALENDAR
VERSION:2.0
PRODID:SFPL Web Calendar
BEGIN:VEVENT
UID:154265@sfpl.org
DTSTAMP:20260723T003000Z
DTSTART:20260723T003000Z
DTEND:20260723T013000Z
SUMMARY:Activity: Giant Bubble Play with Magic Bubbles and Balloons
DESCRIPTION:<p>Visit outdoor bubble-making stations and learn how to create gigantic bubbles with bubble master, Stephen Treder of Magic Bubbles and Balloons. For children and their caregivers.<br>&nbsp;</p><p>Connect:<a href="https://www.magicbubblesandballoons.com/"> Magic Bubbles and Balloons - Website</a></p>
LOCATION:Anza - Anza Front Courtyard
CLASS:PUBLIC
TRANSP:TRANSPARENT
END:VEVENT
BEGIN:VALARM
TRIGGER:-PT1440M
ACTION:DISPLAY
DESCRIPTION:Event Reminder - Activity: Giant Bubble Play with Magic Bubbles and Balloons
END:VALARM
END:VCALENDAR