BEGIN:VCALENDAR
VERSION:2.0
PRODID:SFPL Web Calendar
BEGIN:VEVENT
UID:154275@sfpl.org
DTSTAMP:20260812T210000Z
DTSTART:20260812T210000Z
DTEND:20260812T220000Z
SUMMARY:Activity: Giant Bubble Play with Magic Bubbles and Balloons
DESCRIPTION:<p>Visit outdoor bubble-making stations and learn how to create gigantic bubbles with bubble master Stephen Treder of Magic Bubbles and Balloons. For children and their caregivers.</p><p><br>Connect: Magic Bubbles and Balloons - <a href="https://www.magicbubblesandballoons.com/">Website</a></p>
LOCATION:Eureka Valley/Harvey Milk Memorial - Eureka Valley Back Courtyard
CLASS:PUBLIC
TRANSP:TRANSPARENT
END:VEVENT
BEGIN:VALARM
TRIGGER:-PT1440M
ACTION:DISPLAY
DESCRIPTION:Event Reminder - Activity: Giant Bubble Play with Magic Bubbles and Balloons
END:VALARM
END:VCALENDAR