BEGIN:VCALENDAR
VERSION:2.0
PRODID:SFPL Web Calendar
BEGIN:VEVENT
UID:154596@sfpl.org
DTSTAMP:20260512T233000Z
DTSTART:20260512T233000Z
DTEND:20260513T003000Z
SUMMARY:Services: Voter Registration With The League Of Women Voters San Francisco
DESCRIPTION:<p>Get election‑season ready with quick, friendly help on registering to vote and keeping your info up to date.<br><br><strong>The League of Women Voters of San Francisco is a nonpartisan political nonprofit that defends democracy. We provide education to encourage people to vote in elections and participate in government. We also engage in advocacy to influence public policy that benefits the community. People of all genders are welcome.&nbsp;</strong></p>
LOCATION:Main Library - Atrium
CLASS:PUBLIC
TRANSP:TRANSPARENT
END:VEVENT
BEGIN:VALARM
TRIGGER:-PT1440M
ACTION:DISPLAY
DESCRIPTION:Event Reminder - Services: Voter Registration With The League Of Women Voters San Francisco
END:VALARM
END:VCALENDAR