BEGIN:VCALENDAR
VERSION:2.0
PRODID:SFPL Web Calendar
BEGIN:VEVENT
UID:154813@sfpl.org
DTSTAMP:20260616T220000Z
DTSTART:20260616T220000Z
DTEND:20260616T230000Z
SUMMARY:Presentation: Wild Science with Tree Frog Treks
DESCRIPTION:<p>Meet reptiles and amphibians face-to-face and learn about the natural world around us. Tree Frog Trek's credo has always been: Get Out and Get Dirty. Their guiding mantra remains: Build a Fort, Climb a Tree, Hold a Bug and Smell the Sea. For children and their caregivers. Space limited. First come, first seated.</p><p>Connect: <a href="https://www.treefrogtreks.com/">Tree Frog Treks - Website</a><br>&nbsp;</p>
LOCATION:Eureka Valley/Harvey Milk Memorial - Eureka Valley Back Courtyard
CLASS:PUBLIC
TRANSP:TRANSPARENT
END:VEVENT
BEGIN:VALARM
TRIGGER:-PT1440M
ACTION:DISPLAY
DESCRIPTION:Event Reminder - Presentation: Wild Science with Tree Frog Treks
END:VALARM
END:VCALENDAR