BEGIN:VCALENDAR
VERSION:2.0
PRODID:SFPL Web Calendar
BEGIN:VEVENT
UID:154814@sfpl.org
DTSTAMP:20260618T173000Z
DTSTART:20260618T173000Z
DTEND:20260618T183000Z
SUMMARY:Presentation: Wild Science with Tree Frog Treks
DESCRIPTION:<p>Meet reptiles and amphibians face-to-face and learn about the natural world around us. For children and their caregivers. Space limited. Seats available first come, first served.</p><p>Tree Frog Trek's credo has always been: Get Out and Get Dirty. Their guiding mantra remains: Build a Fort, Climb a Tree, Hold a Bug and Smell the Sea.&nbsp;<br>&nbsp;</p><p>Connect: <a href="https://www.treefrogtreks.com/">Tree Frog Treks - Website</a></p>
LOCATION:Bookmobiles / Mobile Outreach
CLASS:PUBLIC
TRANSP:TRANSPARENT
END:VEVENT
BEGIN:VALARM
TRIGGER:-PT1440M
ACTION:DISPLAY
DESCRIPTION:Event Reminder - Presentation: Wild Science with Tree Frog Treks
END:VALARM
END:VCALENDAR