BEGIN:VCALENDAR
VERSION:2.0
PRODID:SFPL Web Calendar
BEGIN:VEVENT
UID:154823@sfpl.org
DTSTAMP:20260812T203000Z
DTSTART:20260812T203000Z
DTEND:20260812T213000Z
SUMMARY:Workshop: Backpack Charms
DESCRIPTION:<p>Design and create your own decorative backpack charm for back to school.&nbsp;</p><p>Space limited. For ages 10–18.</p><p><br>&nbsp;</p>
LOCATION:Excelsior - Excelsior Meeting Room
CLASS:PUBLIC
TRANSP:TRANSPARENT
END:VEVENT
BEGIN:VALARM
TRIGGER:-PT1440M
ACTION:DISPLAY
DESCRIPTION:Event Reminder - Workshop: Backpack Charms
END:VALARM
END:VCALENDAR