BEGIN:VCALENDAR
VERSION:2.0
PRODID:SFPL Web Calendar
BEGIN:VEVENT
UID:154864@sfpl.org
DTSTAMP:20260625T213000Z
DTSTART:20260625T213000Z
DTEND:20260625T221500Z
SUMMARY:Presentation: A Bit About Bats with NorCal Bats
DESCRIPTION:<p>Meet live bats and learn about the bats of San Francisco, our amazing winged wonders. Learn how they fly, what they hunt and about echolocation. Bats are vital to gardening and farming due to the quantity of agricultural pests that they consume. Participants will learn about local species and have the opportunity to meet live, native bats.</p>
LOCATION:Main Library - Children's Creative Center - 2nd Fl
CLASS:PUBLIC
TRANSP:TRANSPARENT
END:VEVENT
BEGIN:VALARM
TRIGGER:-PT1440M
ACTION:DISPLAY
DESCRIPTION:Event Reminder - Presentation: A Bit About Bats with NorCal Bats
END:VALARM
END:VCALENDAR