BEGIN:VCALENDAR
VERSION:2.0
PRODID:SFPL Web Calendar
BEGIN:VEVENT
UID:154887@sfpl.org
DTSTAMP:20260425T220000Z
DTSTART:20260425T220000Z
DTEND:20260425T230000Z
SUMMARY:Presentation: Puppet Show
DESCRIPTION:<p>Come enjoy a whimsical puppet demonstration, performed by theatre artist Vinh G. Nguyen of Carefree Puppetry. Watch as a colorful menageries of animals made from recycled materials come to life with playful movement and inspiring music. Audiences are invited come meet the puppets up close for a post-show interactive experience.&nbsp;</p><p><strong>About the Artist:</strong></p><p>Vinh G. Nguyen is a theatre maker and puppet artist based in New York City. He was featured in the San Francisco Opera’s “The Monkey King: The Art of Puppetry” Community Day at the Asian Art Museum. Vinh took part in the Green Feather Foundation’s “Fish Migration Puppet Parade” at the Lincoln Center. His pop-up puppet performances have been seen at puppet slams, open mics, and schools. Vinh is the playwright of <i>Tales of Ancient Vietnam</i>, a play with folktales, music, and puppetry. Instagram: @<a href="https://url.avanan.click/v2/r01/___https://www.instagram.com/carefreepuppetry/___.YXAzOnNmZHQyOmE6bzo4MjQzOWE3ZTFkMTYwYmRiMGIwZDVlMTljMGZjYWIwNTo3OmE2M2M6MjM5MjBlNmRiMjlmZDdlYzc2ZDRiMTI5Njk0NmQ0NGY1YjcwMjEwYzlmMTVlN2Q5M2ZiMTNiODQyMGQ0ZGQyNTpoOlQ6Tg">CarefreePuppetry</a></p>
LOCATION:Richmond/Senator Milton Marks - Richmond Meeting Room
CLASS:PUBLIC
TRANSP:TRANSPARENT
END:VEVENT
BEGIN:VALARM
TRIGGER:-PT1440M
ACTION:DISPLAY
DESCRIPTION:Event Reminder - Presentation: Puppet Show
END:VALARM
END:VCALENDAR