BEGIN:VCALENDAR
VERSION:2.0
PRODID:SFPL Web Calendar
BEGIN:VEVENT
UID:155023@sfpl.org
DTSTAMP:20260806T000000Z
DTSTART:20260806T000000Z
DTEND:20260806T010000Z
SUMMARY:Workshop: LEGO Letterpress Printing with Arion Press
DESCRIPTION:<p>Make your own keepsake with a tabletop letterpress and your own design with LEGOS on Provisional Press. Learn about the history of press and letterpress printing.&nbsp;</p><p>Space limited. Reservations required: (415) 355-2858.</p><p>Connect: <a href="https://arionpress.com/">Arion Press – Website</a></p>
LOCATION:Glen Park - Glen Park Meeting Room
CLASS:PUBLIC
TRANSP:TRANSPARENT
END:VEVENT
BEGIN:VALARM
TRIGGER:-PT1440M
ACTION:DISPLAY
DESCRIPTION:Event Reminder - Workshop: LEGO Letterpress Printing with Arion Press
END:VALARM
END:VCALENDAR