BEGIN:VCALENDAR
VERSION:2.0
PRODID:SFPL Web Calendar
BEGIN:VEVENT
UID:155162@sfpl.org
DTSTAMP:20260611T230000Z
DTSTART:20260611T230000Z
DTEND:20260612T000000Z
SUMMARY:Workshop: Introduction to Music Production
DESCRIPTION:<p>Learn the basic of digital music production. Teens will explore using music software and hardware to begin creating their own songs and music. They will learn to make beats and loops, use samples and edit audio files.</p><p>For ages 13–18. Space limited. Reservations required: (415) 355-5660 (Starting May 14th).</p>
LOCATION:Portola - Portola Meeting Room
CLASS:PUBLIC
TRANSP:TRANSPARENT
END:VEVENT
BEGIN:VALARM
TRIGGER:-PT1440M
ACTION:DISPLAY
DESCRIPTION:Event Reminder - Workshop: Introduction to Music Production
END:VALARM
END:VCALENDAR