BEGIN:VCALENDAR
VERSION:2.0
PRODID:SFPL Web Calendar
BEGIN:VEVENT
UID:155362@sfpl.org
DTSTAMP:20260810T233000Z
DTSTART:20260810T233000Z
DTEND:20260811T003000Z
SUMMARY: Workshop: Pet Rocks and Driftwood Friends with Ali Blum
DESCRIPTION:<p>Celebrate art in nature with a creative workshop where young artists transform rocks and driftwood into expressive characters inspired by stories, emotions or self-portraits. Participants will also build and decorate a special “home” for their creations.</p><p>For ages 12-15. Space limited. First come, first serve.</p><p>Look for the Bookmobile near the intersection of John F Kennedy Drive and Conservatory Drive West.</p><p>Alexandra Blum received her BFA from Cornell University in Painting and her MFA in Printmaking from Washington University in St Louis. She has had residencies at Curtiduria Print shop in Oaxaca, Mexico, and the De Young Museum in San Francisco. Ali actively exhibits and selected group and solo shows include De Young Museum, Cornell University Hartell Gallery, San Francisco Public Library, Museo de la Filatelia de Oaxaca, Ligne Roset, Front Gallery, Somarts, Paxton Gate Curiosities for Kids, The Mission Cultural Center, and The San Francisco Jewish Library. Ali teaches at Drew School and the students serve as a constant source of energy and inspiration. She has conducted workshops and live art demonstrations with SFPL, the SFMOMA, De Young Friday Night Events, The Academy of Sciences, Asian Art Museum intern program, and The Jewish Museum. She is a member of Earth Creatives.</p><p><strong>Connect:</strong>&nbsp;<a href="https://www.aliblumart.com/">Ali Blum Art – Website</a></p>
LOCATION:Bookmobiles / Mobile Outreach
CLASS:PUBLIC
TRANSP:TRANSPARENT
END:VEVENT
BEGIN:VALARM
TRIGGER:-PT1440M
ACTION:DISPLAY
DESCRIPTION:Event Reminder -  Workshop: Pet Rocks and Driftwood Friends with Ali Blum
END:VALARM
END:VCALENDAR