BEGIN:VCALENDAR
VERSION:2.0
PRODID:SFPL Web Calendar
BEGIN:VEVENT
UID:155419@sfpl.org
DTSTAMP:20260725T223000Z
DTSTART:20260725T223000Z
DTEND:20260726T000000Z
SUMMARY:Workshop: Polymer Clay Pendants with Double Union
DESCRIPTION:<p>Learn simple techniques to blend, mix, shape and cut jewelry pieces. After molding their creation, the instructor will dry the clay and we will finish by adding an attachment piece. Each participant will take a pendant home.</p><p>Recommended for ages 5 and older. Participants under 15 should be accompanied by an adult.</p><p>This workshop will require the use of a heat gun and will need access to a ceramic or concrete surface (outside for example). Only the instructors will use the heat gun.</p>
LOCATION:Golden Gate Valley - Golden Gate Valley Meeting Room
CLASS:PUBLIC
TRANSP:TRANSPARENT
END:VEVENT
BEGIN:VALARM
TRIGGER:-PT1440M
ACTION:DISPLAY
DESCRIPTION:Event Reminder - Workshop: Polymer Clay Pendants with Double Union
END:VALARM
END:VCALENDAR