BEGIN:VCALENDAR
VERSION:2.0
PRODID:SFPL Web Calendar
BEGIN:VEVENT
UID:156737@sfpl.org
DTSTAMP:20260415T220000Z
DTSTART:20260415T220000Z
DTEND:20260416T000000Z
SUMMARY:Film: How to Train Your Dragon
DESCRIPTION:<p>Experience <i>How to Train Your Dragon</i>, the beloved adventure reimagined in a breathtaking live-action spectacle!</p><p>On the rugged island of Berk, where Vikings and dragons have been sworn enemies for generations, a thoughtful young Viking named Hiccup dares to challenge tradition. When he befriends a rare and powerful dragon, Toothless, Hiccup uncovers a truth that could change his world forever. As their bond grows, he must find the courage to stand up for what he believes in and redefine what it means to be a hero. Filled with epic action, stunning visuals and heartfelt moments, this story soars with themes of friendship, bravery and understanding.</p><p>Show off your best dragon-inspired or Viking-inspired costume. Wings, helmets and creative fantasy outfits are encouraged.</p><p>PG, 125 mins., 2025. Closed Captions (CC) in English</p><p><br>&nbsp;</p>
LOCATION:North Beach - North Beach Library Community Room
CLASS:PUBLIC
TRANSP:TRANSPARENT
END:VEVENT
BEGIN:VALARM
TRIGGER:-PT1440M
ACTION:DISPLAY
DESCRIPTION:Event Reminder - Film: How to Train Your Dragon
END:VALARM
END:VCALENDAR