BEGIN:VCALENDAR
VERSION:2.0
PRODID:SFPL Web Calendar
BEGIN:VEVENT
UID:156741@sfpl.org
DTSTAMP:20260507T003000Z
DTSTART:20260507T003000Z
DTEND:20260507T013000Z
SUMMARY:Film: The Barber of Seville
DESCRIPTION:<p>Please join us for an abridged, kid-friendly film screening of San Francisco Opera Production of <i>The Barber of Seville for Families</i>.</p><p>Synopsis: In this comic opera, originally composed by Gioachino Rossini, Count Almaviva wins the heart of beautiful Rosina with the help of Figaro, the barber of Seville.</p><p>NR, 60 mins., Closed Captions (CC) in English.</p><p>&nbsp;</p><p>&nbsp;</p><p>&nbsp;</p><p><br>&nbsp;</p>
LOCATION:Richmond/Senator Milton Marks - Richmond Meeting Room
CLASS:PUBLIC
TRANSP:TRANSPARENT
END:VEVENT
BEGIN:VALARM
TRIGGER:-PT1440M
ACTION:DISPLAY
DESCRIPTION:Event Reminder - Film: The Barber of Seville
END:VALARM
END:VCALENDAR