BEGIN:VCALENDAR
VERSION:2.0
PRODID:SFPL Web Calendar
BEGIN:VEVENT
UID:156783@sfpl.org
DTSTAMP:20260820T230000Z
DTSTART:20260820T230000Z
DTEND:20260821T010000Z
SUMMARY:Workshop: Manifestation Art Journals with Asé Arts
DESCRIPTION:<p>Embark on a transformative journey to manifest your dream life in a unique workshop guided by Nichole Talbott of <a href="https://www.asearts.org/">Asé Arts</a>. Explore the art of self-reflection and collage in a specially crafted notebook to bring your aspirations to life.</p><p>If you would like, bring pictures of yourself or those who were close and have passed (ancestors), quotes or saying that resonate with you, affirmations, or pressed flowers.</p><p>Space limited. Reservations required: (415) 355-5638.</p><p>Asé Arts community pronounced (Ah Shay), utilizes the arts as a powerful tool to provoke thought, conversation & change. We build connections through the process of art making. Focused on fostering self expression, skill building, and creative exploration in our visual arts classes, workshops, and community engagement events.</p>
LOCATION:Richmond/Senator Milton Marks - Richmond Meeting Room
CLASS:PUBLIC
TRANSP:TRANSPARENT
END:VEVENT
BEGIN:VALARM
TRIGGER:-PT1440M
ACTION:DISPLAY
DESCRIPTION:Event Reminder - Workshop: Manifestation Art Journals with Asé Arts
END:VALARM
END:VCALENDAR