BEGIN:VCALENDAR
VERSION:2.0
PRODID:SFPL Web Calendar
BEGIN:VEVENT
UID:156910@sfpl.org
DTSTAMP:20260713T233000Z
DTSTART:20260713T233000Z
DTEND:20260714T003000Z
SUMMARY:Activity: Improv Theater Games
DESCRIPTION:<p>Try out some improv games and playful competition where the lines are made up and the points don’t matter. For everyone who enjoys theater, making things up and getting a bit silly. No experience necessary. For ages 10–18.</p>
LOCATION:Glen Park - Glen Park Meeting Room
CLASS:PUBLIC
TRANSP:TRANSPARENT
END:VEVENT
BEGIN:VALARM
TRIGGER:-PT1440M
ACTION:DISPLAY
DESCRIPTION:Event Reminder - Activity: Improv Theater Games
END:VALARM
END:VCALENDAR