BEGIN:VCALENDAR
VERSION:2.0
PRODID:SFPL Web Calendar
BEGIN:VEVENT
UID:24944@sfpl.org
DTSTAMP:20200213T023000Z
DTSTART:20200213T023000Z
DTEND:20200213T043000Z
SUMMARY:Music: Bernal Jazz Quintet
DESCRIPTION:The Bernal Jazz Quintet explores familiar standards and fresh new compositions, from bop to blues to ballads and more. An unusual front-line grouping of vibraphone (Jim Zimmerman), sax (Michael Gold), and trombone (Derek James) combines with a driving, creative rhythm section of drums (Curt Moore) and bass (Chuck Bennett). For all ages.
LOCATION:Bernal Heights - Bernal Heights Meeting Room
CLASS:PUBLIC
TRANSP:TRANSPARENT
END:VEVENT
BEGIN:VALARM
TRIGGER:-PT1440M
ACTION:DISPLAY
DESCRIPTION:Event Reminder - Music: Bernal Jazz Quintet
END:VALARM
END:VCALENDAR