BEGIN:VCALENDAR
VERSION:2.0
PRODID:SFPL Web Calendar
BEGIN:VEVENT
UID:28416@sfpl.org
DTSTAMP:20200723T020000Z
DTSTART:20200723T020000Z
DTEND:20200723T033000Z
SUMMARY:Presentation: Alcatraz and Mass Incarceration
DESCRIPTION:<p><span><span><span><span><span><span>Troy Williams, founder and director of </span></span></span></span></span></span><a href="https://restorativemedia.org/"><span><span><span><span><span><span><span><span>Restorative Media</span></span></span></span></span></span></span></span></a><span><span><span><span><span><span> and host of the Troy Williams Journal served 25 years in prison facilities.&nbsp; Williams along with a National Park Service Alcatraz park ranger will discuss mass incarceration in America. Learn how the history of incarceration at Alcatraz informs us about the state of incarceration today, with a special focus on incarceration and reentry during the current pandemic.</span></span></span></span></span></span></p>

<p><span><span><span><span><span><span><span>Reservations required: </span></span></span></span></span></span></span><a href="https://bit.ly/AlcatrazIncarceration7-22-20"><span><span><span><span><span><span><span><span><span>https://bit.ly/AlcatrazIncarceration7-22-20</span></span></span></span></span></span></span></span></span></a></p>

LOCATION:Virtual Library
CLASS:PUBLIC
TRANSP:TRANSPARENT
END:VEVENT
BEGIN:VALARM
TRIGGER:-PT1440M
ACTION:DISPLAY
DESCRIPTION:Event Reminder - Presentation: Alcatraz and Mass Incarceration
END:VALARM
END:VCALENDAR