BEGIN:VCALENDAR
VERSION:2.0
PRODID:SFPL Web Calendar
BEGIN:VEVENT
UID:28589@sfpl.org
DTSTAMP:20201001T020000Z
DTSTART:20201001T020000Z
DTEND:20201001T030000Z
SUMMARY:Autor: Benjamin Bac Sierra en conversación con Luis Rodriguez
DESCRIPTION:<p><span><span><span><span><span><span>En conjunto con ¡VIVA!: Latino Heritage Month, SFPL se siente honrado de presentar a B</span></span></span></span></span></span><span><span><span><span><span><span><span>enjamin Bac Sierra como nuestro autor de En la Misma Página. Celebraremos este autor local, educador, poeta, activista y oriundo del Distrito de la Misión. El nuevo libro de Bac Sierra,&nbsp;</span></span></span></span></span></span></span><span><span><span><span><em><span>Pura Neta, </span></em><span>la tan esperada continuación a</span></span></span></span></span><span><span><span><span><span><span>&nbsp;</span></span></span></span></span></span><a href="https://sfpl.bibliocommons.com/item/show/2661794093"><span><span><span><span><em><span><span><span>Barrio Bushido</span></span></span></em></span></span></span></span></a><span><span><span><span><span><span>&nbsp;sale e mediados de septiembre por&nbsp;</span></span></span></span></span></span><a href="https://pochinopress.com/index.html"><span><span><span><span><span><span><span><span>Pochino Press</span></span></span></span></span></span></span></span></a><span><span><span><span><span><span>. Benjamin Bac Sierra será entrevistado por </span></span></span></span></span></span><a href="https://www.luisjrodriguez.com/"><span><span><span><span><span><span><span><span>Luis Rodriguez</span></span></span></span></span></span></span></span></a><span><span><span><span><span><span>, autor de&nbsp;</span></span></span></span></span></span><a href="https://sfpl.bibliocommons.com/item/show/2734980093"><span><span><span><span><em><span><span><span>Always Running</span></span></span></em></span></span></span></span></a><span><span><span><span><em><span>: La Vida Loca </span></em><span>y más recientemente</span></span></span></span></span><span><span><span><span><span><span>&nbsp;</span></span></span></span></span></span><a href="https://sfpl.bibliocommons.com/item/show/4128005093"><span><span><span><span><em><span><span><span>From Our Land to Our Land Essays, Journeys, and Imaginings From A Native Xicanx Writer</span></span></span></em></span></span></span></span></a><span><span><span><span><em><span>.</span></em></span></span></span></span></p>

<p><span><span><span><span><span><span>Establecido en el barrio de la Misión de San Francisco, de 2012 a&nbsp;2014, </span></span></span></span></span></span><span><span><span><span><em><span>Pura Neta</span></em></span></span></span></span><span><span><span><span><span><span> explora la lucha creativa de homeboys y&nbsp;homegirls peleando contra la gentrificación, la brutalidad policíaca, el&nbsp;racismo y la injusticia económica y educacional.&nbsp;&nbsp;</span></span></span></span></span></span></p>

<p><a href="https://sfpl.bibliocommons.com/v2/search?query=%22Bac+Sierra%2C+Benjamin%22&amp;searchType=author"><span><span><span><span><span><span><span><span>Benjamin Bac Sierra</span></span></span></span></span></span></span></span></a><span><span><span><span><span><span>&nbsp;fue criado por una madre viuda en las calles del Distrito de la Misión en San Francisco.&nbsp;</span></span></span></span></span></span><span><span><span><span><span><span><span><span><span>Después de prestar servicio militar como soldado en el&nbsp;</span></span></span></span></span></span>Cuerpo de Infantería de Marina, donde participó en el combate de primera línea durante la primera Guerra del Golfo,&nbsp;<span><span><span><span><span><span>Ben logró su grado universitario&nbsp;en inglés en&nbsp;U.C. Berkeley, obtuvo una credencial para ense</span></span></span></span></span></span>ñ<span><span><span><span><span><span>ar y una maestría en escritura creativa de la Universidad Estatal de&nbsp;San Francisco y es mérito&nbsp;de un grado de&nbsp;Juris Doctor de la Escuela de Derecho de Hastings de la Universidad de California. Actualmente, es profesor en&nbsp;City College de&nbsp;San Francisco y un innovador de comunidad y orador central a lo largo del Área de la Bahía. Los ensayos e historias de Ben se han&nbsp;publicado en periódicos y revistas literarias. Su primera novela&nbsp;</span><em><span>Barrio Bushido</span></em></span><span><span>&nbsp;recibió un premio&nbsp;Best of the Bay&nbsp;y un premio&nbsp;International Latino Book.</span></span></span></span></span></span></span></span></span></p>

<p><span><span><span><span><span><span>Luis Rodriguez es un previo poeta laureado de </span></span></span></span></span></span><span><span><span><span><span><span><span>Los Angeles. Ha publicado 16 libros, es el fundador de Tia Chucha Press y cofundador del centro cultural y librería Tia Chucha's Cultural Center &amp; Bookstore. Rodriguez tiene dos cuentos </span></span></span></span></span></span></span><span><span><span><span><span><span>autobiográficas de sus vivencias en la violencia de pandillas y la adicción, </span></span></span></span></span></span><a href="https://sfpl.bibliocommons.com/item/show/2470315093"><span><span><span><span><em><span><span><span>It Calls You Back: An Odyssey Through Love, Addiction, Revolutions, and Healing </span></span></span></em></span></span></span></span></a><span><span><span><span><span><span>(Touchstone, 2012), ganador del premio&nbsp;National Book Critics Circle por autobiografía; y una lectura obligatoria,&nbsp;</span></span></span></span></span></span><a href="https://sfpl.bibliocommons.com/item/show/2734980093"><span><span><span><span><em><span><span><span>Always Running: La Vida Loca, Gang Days in L.A</span></span></span></em></span></span></span></span></a><span><span><span><span><span><span>. (Curbstone Books, 1993), ganadora del premio&nbsp;Carl Sandburg por&nbsp;Friends of the Chicago Public Library. Su más reciente libro,</span></span></span></span></span></span><span><span><span><span><em><span> </span></em></span></span></span></span><a href="https://sfpl.bibliocommons.com/item/show/4128005093"><span><span><span><span><em><span><span><span>From Our Land to Our Land Essays, Journeys, and Imaginings From A Native Xicanx Writer</span></span></span></em></span></span></span></span></a><span><span><span><span><em><span>, </span></em></span></span></span></span><span><span><span><span><span><span>explora la raza, cultura, identidad y sentido de pertenencia, y lo que todo esto quiere decir y debería significar&nbsp;</span></span></span></span></span></span><span><span><span><span><span><span>(pero a menudo no es así) en el ambiente&nbsp;volátil de nuestra nación.&nbsp;</span></span></span></span></span></span></p>

<p><span><span><span><span><strong><span><span>Reservaciones requeridas:&nbsp;<a href="https://bit.ly/PuraNeta9-30-20">https://bit.ly/PuraNeta9-30-20</a></span></span></strong></span></span></span></span></p>

<p><span><span><span><span><strong><span><span>Eventos relacionados</span></span></strong></span></span></span></span></p>

<p><span><span><span><span><strong><span><span>Círculo de lectores OTSP: Benjamin Bac Sierra </span></span></strong></span></span></span></span><span><span><span><span><strong><em><span>Barrio Bushido</span></em></strong></span></span></span></span><span><span><span><span><strong><span><span> </span></span></strong></span></span></span></span><span><span><span><span><strong><span><span>–</span></span></strong></span></span></span></span><span><span><span><span><strong><em><span> </span></em></strong></span></span></span></span><span><span><span><span><strong><span><span>Sept 28, 7PM</span></span></strong></span></span></span></span></p>

<p><a href="https://bit.ly/BarrioBushido9-28-20"><span><span><span><span><strong><span><span><span><span>https://bit.ly/BarrioBushido9-28-20</span></span></span></span></strong></span></span></span></span></a></p>

<p><span><span><span><span><strong><span><span>Círculo de lectores OTSP: Benjamin Bac Sierra </span></span></strong></span></span></span></span><span><span><span><span><strong><em><span>Pura Neta </span></em></strong></span></span></span></span><span><span><span><span><strong><span><span>– </span></span></strong></span></span></span></span><span><span><span><span><strong><span><span>Oct 26, 7PM&nbsp;</span></span></strong></span></span></span></span></p>

<p><a href="https://bit.ly/PuraNeta10-26-20"><span><span><span><span><strong><span><span><span><span>https://bit.ly/PuraNeta10-26-20</span></span></span></span></strong></span></span></span></span></a></p>

<p><span><span><span><span><span><span><span>Conéctate con&nbsp;Ben Bac Sierra: </span></span></span></span></span></span></span><span><span><span><span><span><span><span><span><span><a href="https://todobododown.com/">Sitio web</a></span></span></span></span></span></span></span></span></span><span><span><span><span><span><span><span>&nbsp;</span></span></span></span></span></span></span></p>

<p><span><span><span><span><span><span><span>Conéctate&nbsp;con&nbsp;Luis Rodriguez: </span></span></span></span></span></span></span><a href="https://www.luisjrodriguez.com/"><span><span><span><span><span><span><span><span><span>Sitio web</span></span></span></span></span></span></span></span></span></a><span><span><span><span><span><span><span>&nbsp;| </span></span></span></span></span></span></span><a href="https://twitter.com/luisjrodriguez"><span><span><span><span><span><span><span><span><span>Twitter</span></span></span></span></span></span></span></span></span></a></p>

<p><span><span><span><span><span><span><span>Este evento se transmitirá simultáneamente en el </span></span></span></span></span></span></span><a href="https://www.youtube.com/user/SanFranciscoLibrary"><span><span><span><span><span><span><span><span><span>YouTube de la Biblioteca Pública de SF.</span></span></span></span></span></span></span></span></span></a></p>

<p><span><span><span><span><span><span><span>For accommodations, call 415-557-4557 or contact marti.goddard@sfpl.org. Requesting 72 hours in advance will help ensure availability.</span></span></span></span></span></span></span></p>

<p><span><span><span><span><span><span><span>This event may be recorded, if you are not comfortable being recorded, set your&nbsp;camera to OFF.</span></span></span></span></span></span></span></p>

LOCATION:Virtual Library
CLASS:PUBLIC
TRANSP:TRANSPARENT
END:VEVENT
BEGIN:VALARM
TRIGGER:-PT1440M
ACTION:DISPLAY
DESCRIPTION:Event Reminder - Autor: Benjamin Bac Sierra en conversación con Luis Rodriguez
END:VALARM
END:VCALENDAR