BEGIN:VCALENDAR
VERSION:2.0
PRODID:SFPL Web Calendar
BEGIN:VEVENT
UID:28752@sfpl.org
DTSTAMP:20201025T180000Z
DTSTART:20201025T180000Z
DTEND:20201025T190000Z
SUMMARY:Día de Muertos con Calixto Robles en español
DESCRIPTION:<p>Calixto Robles, artista y activista en&nbsp;San Francisco liderará una plática sobre la historia y creación del Día de Muertos. Este evento se presentará en español.&nbsp;</p>

<p>Reservaciones:<a href="https://bit.ly/WaterisLife10-19-20"> </a><a href="http://bit.ly/DíaDeMuertos10-25-20">http://bit.ly/DíaDeMuertos10-25-20</a></p>

<p>Conéctate con Calixto Robles: <a href="https://calixtoart.com/">Sitio web</a>&nbsp;| <a href="https://www.instagram.com/calixto.robles/">Instagram</a> | <a href="https://www.facebook.com/calixto.robles.7">Facebook</a> | <a href="http://eltecolote.org/content/en/arts_culture/mission-maestro-reminds-us-that-water-is-life-with-latest-show/">Press</a></p>

<p>Fotografía: en&nbsp;la panadería La Mejor en la calle&nbsp;24. Foto por Lydia Chávez para&nbsp;<a href="https://missionlocal.org/2016/11/merchants-artists-turn-to-day-of-the-dead-during-turbulent-times/">Mission Local&nbsp;</a></p>

LOCATION:Virtual Library
CLASS:PUBLIC
TRANSP:TRANSPARENT
END:VEVENT
BEGIN:VALARM
TRIGGER:-PT1440M
ACTION:DISPLAY
DESCRIPTION:Event Reminder - Día de Muertos con Calixto Robles en español
END:VALARM
END:VCALENDAR