BEGIN:VCALENDAR
VERSION:2.0
PRODID:SFPL Web Calendar
BEGIN:VEVENT
UID:29272@sfpl.org
DTSTAMP:20210122T220000Z
DTSTART:20210122T220000Z
DTEND:20210122T224500Z
SUMMARY:Workshop: Hand Drawing
DESCRIPTION:<p>Learn the basics of pencil shading and blending in an all-ages guided drawing workshop with Sedey Gebreyes of the <a href="http://www.moadsf.org">Museum of the African Diaspora</a>. You do not have to possess any artistic skills to participate.&nbsp;Ideal for kids 5 and older and open to participants of all ages.</p>

<p>Tune in on YouTube.</p>

<p>For the workshop you will need:</p>

<ul>
	<li>A dull pencil</li>
	<li>Two sheets of plain white paper (8.5” x 11” or larger)</li>
	<li>Optional: Two Q-tips or cotton swabs</li>
	<li>Optional: Eraser</li>
</ul>

LOCATION:Virtual Library
CLASS:PUBLIC
TRANSP:TRANSPARENT
END:VEVENT
BEGIN:VALARM
TRIGGER:-PT1440M
ACTION:DISPLAY
DESCRIPTION:Event Reminder - Workshop: Hand Drawing
END:VALARM
END:VCALENDAR