BEGIN:VCALENDAR
VERSION:2.0
PRODID:SFPL Web Calendar
BEGIN:VEVENT
UID:29436@sfpl.org
DTSTAMP:20210520T233000Z
DTSTART:20210520T233000Z
DTEND:20210521T023000Z
SUMMARY:Library Commission Meeting: May 20, 2021
DESCRIPTION:<p>Meeting held virtually & telephonically&nbsp;to provide the safest environment for all persons consistent with San Francisco Department of Public Health Order of the Health Officer No. C19- 07e and current public health recommendations, while allowing the public to observe and address the Commission.</p>

<h2>Meeting documents available for viewing and download</h2>

<ul>
	<li><a href="/library-commission/agenda-may-20-2021">May 20th Meeting Agenda (PDF)</a>

	<ul>
		<li><a href="/sites/default/files/2021-05/2.1-summer-stride-2021052021.pdf">Item 2 Summer Together & Summer Stride (PDF)</a></li>
		<li><a href="/sites/default/files/2021-05/3.1-reopening-plan052021.pdf">Item 3.1 Reopening Plan presentation&nbsp;(PDF)</a></li>
		<li><a href="/sites/default/files/2021-05/3.2-aapi-month052021.pdf">Item 3.2 Asian American Pacific Islander Month (PDF)</a></li>
		<li><a href="/sites/default/files/2021-05/3.3-sf-tech-week052021.pdf">Item 3.3&nbsp;Tech Week (PDF)</a></li>
		<li><a href="/library-commission/draft-minutes-april-15-2021">Item 4&nbsp;April 15, 2021 minutes - Draft&nbsp;(PDF)</a></li>
	</ul>
	</li>
</ul>

<h2>WATCH and PUBLIC COMMENT</h2>

<p><a href="https://on.sfpl.org/SFPLCommission">on.sfpl.org/SFPLCommission</a></p>

<h2>LISTEN and PUBLIC COMMENT CALL-IN</h2>

<p>1-415-655-0001 or 1-408-418-9388</p>

<p>Event number (access code):&nbsp;<strong>187 080 3976</strong>&nbsp;</p>
LOCATION:Virtual Library
CLASS:PUBLIC
TRANSP:TRANSPARENT
END:VEVENT
BEGIN:VALARM
TRIGGER:-PT1440M
ACTION:DISPLAY
DESCRIPTION:Event Reminder - Library Commission Meeting: May 20, 2021
END:VALARM
END:VCALENDAR