BEGIN:VCALENDAR
VERSION:2.0
PRODID:SFPL Web Calendar
BEGIN:VEVENT
UID:29833@sfpl.org
DTSTAMP:20210429T010000Z
DTSTART:20210429T010000Z
DTEND:20210429T020000Z
SUMMARY:Author: Hanif Abdurraqib in conversation, A Little Devil in America
DESCRIPTION:<p>Hanif Abdurraqib will discuss his latest book, <em>A Little Devil in America</em>, an electrifying celebration of Black performances, cultures and communities in the United States.</p>

<p><a href="https://sfpl.bibliocommons.com/v2/search?query=Hanif+Abdurraqib&amp;searchType=smart"><strong>Hanif Abdurraqib</strong></a> is a poet, essayist and cultural critic from Columbus, Ohio. His poetry has been published in <em>Muzzle</em>, <em>Vinyl,</em> <em>PEN American</em>, and various other journals. Abdurraqib’s essays and music criticism have been published in <em>The FADER</em>, <em>Pitchfork</em>, <em>The New Yorker</em> and <em>The New York Times</em>. His first full length poetry collection, <a href="https://buttonpoetry.com/product/the-crown-aint-worth-much/"><em>The Crown Ain't Worth Much</em></a>, was released in June 2016 from Button Poetry. It was named a finalist for the Eric Hoffer Book Prize, and was nominated for a Hurston-Wright Legacy Award. With Big Lucks, he released a limited edition chapbook, <em>Vintage Sadness</em>, in summer 2017 (you cannot get it anymore and he is very sorry.) His first collection of essays,<em> </em><a href="https://twodollarradio.com/products/they-cant-kill-us"><em>They Can't Kill Us Until They Kill Us</em></a>, was released in winter 2017 by Two Dollar Radio and was named a book of the year by Buzzfeed, Esquire, NPR, Oprah Magazine, Paste, CBC, The Los Angeles Review, Pitchfork, and The Chicago Tribune, among others. He released <a href="https://utpress.utexas.edu/books/abdurraqib-go-ahead-in-the-rain"><em>Go Ahead In The Rain: Notes To A Tribe Called Quest</em></a> with University of Texas press in February 2019. The book became a New York Times Bestseller, was a finalist for the Kirkus Prize, and was longlisted for the National Book Award. His second collection of poems, <a href="https://www.indiebound.org/book/9781947793439"><em>A Fortune For Your Disaster</em></a>, was released in 2019 by Tin House, and won the 2020 Lenore Marshall Prize. In 2021, he will release the book <a href="https://sfpl.bibliocommons.com/item/show/4615970093"><em>A Little Devil in America: A Little Devil in America Notes in Praise of Black Performance</em></a><em> </em>with Random House. He is a graduate of Beechcroft High School.</p>

<p><strong>Connect</strong></p>

<p>Hanif Abdurraqib - <a href="http://www.abdurraqib.com/">Website</a> | <a href="https://www.instagram.com/nifmuhammad/">Instagram</a> | <a href="https://twitter.com/NifMuhammad">Twitter</a> | <a href="https://www.facebook.com/EmotionalFascism/">Facebook</a>&nbsp;</p>

<p>MoAD - <a href="https://www.moadsf.org/">Website</a> | <a href="https://www.instagram.com/moadsf/">Instagram</a> | <a href="https://twitter.com/moadsf">Twitter</a> | <a href="https://www.facebook.com/moadsanfrancisco">Facebook</a> | <a href="https://www.youtube.com/channel/UCBDxwyq8yf8N5rXI8k2UdjA">YouTube</a></p>

<p>&nbsp;</p>

LOCATION:Virtual Library
CLASS:PUBLIC
TRANSP:TRANSPARENT
END:VEVENT
BEGIN:VALARM
TRIGGER:-PT1440M
ACTION:DISPLAY
DESCRIPTION:Event Reminder - Author: Hanif Abdurraqib in conversation, A Little Devil in America
END:VALARM
END:VCALENDAR