BEGIN:VCALENDAR
VERSION:2.0
PRODID:SFPL Web Calendar
BEGIN:VEVENT
UID:30009@sfpl.org
DTSTAMP:20210511T223000Z
DTSTART:20210511T223000Z
DTEND:20210512T000000Z
SUMMARY:Workshop: Web Design for Teens
DESCRIPTION:<p>This is a beginner's workshop where students will be able to build their own portfolio with HTML and CSS. No web design or coding experience necessary.&nbsp;Ages 13-18. Presented by Mission Bit. https://www.missionbit.org/</p>

LOCATION:Virtual Library
CLASS:PUBLIC
TRANSP:TRANSPARENT
END:VEVENT
BEGIN:VALARM
TRIGGER:-PT1440M
ACTION:DISPLAY
DESCRIPTION:Event Reminder - Workshop: Web Design for Teens
END:VALARM
END:VCALENDAR