BEGIN:VCALENDAR
VERSION:2.0
PRODID:SFPL Web Calendar
BEGIN:VEVENT
UID:30110@sfpl.org
DTSTAMP:20210423T190000Z
DTSTART:20210423T190000Z
DTEND:20210423T200000Z
SUMMARY:Presentación: Hogares Saludables
DESCRIPTION:<p>¡Proteja la salud de su familia con un hogar más saludable! Cuando limpia y desinfecta su hogar, no debería tener que preocuparse de exponerse a sustancias químicas que dañan su salud. Pero muchos productos comunes de limpieza contienen ingredientes peligrosos que pueden causar asma y otras enfermedades respiratorias. Ahora más que nunca, es importante proteger su salud y la de sus seres queridos. Elija prácticas y productos de limpieza y desinfección que evitan los ingredientes dañinos y que son igual de eficaces. Elija prácticas y productos de limpieza y desinfección que evitan los ingredientes dañinos y que son igual de eficaces.&nbsp;</p>

<p>&nbsp;</p>

<p>Infórmese cómo:</p>

<ul>
	<li>Encontrar productos para la limpieza y la desinfección que son igual de eficaces que el blanqueador y el amoníaco.</li>
	<li>Usar mejores prácticas simples para proteger la salud de su familia.</li>
	<li>Hacer productos de limpieza más seguros en casa - ahorre dinero y reduzca la exposición de su familia a sustancias químicas tóxicas.</li>
	<li>Identificar los factores que contribuyen a la mala calidad del aire interior en su hogar.</li>
</ul>

<p><br />
Conéctese con SF Environment -&nbsp; <a href="https://www.facebook.com/SFEnvironment/">Website</a> | <a href="https://www.facebook.com/SFEnvironment/">Facebook</a> | <a href="https://twitter.com/sfenvironment">Twitter</a> | <a href="https://www.instagram.com/sfenvironment/">Instagram</a></p>

LOCATION:Virtual Library
CLASS:PUBLIC
TRANSP:TRANSPARENT
END:VEVENT
BEGIN:VALARM
TRIGGER:-PT1440M
ACTION:DISPLAY
DESCRIPTION:Event Reminder - Presentación: Hogares Saludables
END:VALARM
END:VCALENDAR