BEGIN:VCALENDAR
VERSION:2.0
PRODID:SFPL Web Calendar
BEGIN:VEVENT
UID:31359@sfpl.org
DTSTAMP:20210728T020000Z
DTSTART:20210728T020000Z
DTEND:20210728T030000Z
SUMMARY:Author: Dov Levin, Meddling in the Ballot Box
DESCRIPTION:<p>Why do foreign powers sometimes try to determine who wins an election in another country? What effects does such meddling have on the targeted elections results?&nbsp; In his new book, <a href="https://global.oup.com/academic/product/meddling-in-the-ballot-box-9780197519882"><em>Meddling in the Ballot Box</em></a>, Dr. Dov Levin answers these two questions based on his research into this topic. He also discusses the case of the Russian intervention in the 2016 elections.&nbsp;</p>

<p>Connect with Dov Levin - <a href="https://www.dovhlevin.com/">Website</a> | <a href="https://twitter.com/dov_levin">Twitter</a></p>

LOCATION:Virtual Library
CLASS:PUBLIC
TRANSP:TRANSPARENT
END:VEVENT
BEGIN:VALARM
TRIGGER:-PT1440M
ACTION:DISPLAY
DESCRIPTION:Event Reminder - Author: Dov Levin, Meddling in the Ballot Box
END:VALARM
END:VCALENDAR