BEGIN:VCALENDAR
VERSION:2.0
PRODID:SFPL Web Calendar
BEGIN:VEVENT
UID:31530@sfpl.org
DTSTAMP:20211019T170000Z
DTSTART:20211019T170000Z
DTEND:20211019T180000Z
SUMMARY:Demonstration: Reference Solutions Database for Retail Businesses
DESCRIPTION:<p>Access targeted information about other businesses or consumers in your community or across the country to grow your retail business.</p>

<p>Presented by Bill Carlson, Customer Success Representative <a href="mailto:Bill.Carlson@data-axle.com">Email</a>&nbsp;</p>

LOCATION:Virtual Library
CLASS:PUBLIC
TRANSP:TRANSPARENT
END:VEVENT
BEGIN:VALARM
TRIGGER:-PT1440M
ACTION:DISPLAY
DESCRIPTION:Event Reminder - Demonstration: Reference Solutions Database for Retail Businesses
END:VALARM
END:VCALENDAR