BEGIN:VCALENDAR
VERSION:2.0
PRODID:SFPL Web Calendar
BEGIN:VEVENT
UID:31566@sfpl.org
DTSTAMP:20210626T180000Z
DTSTART:20210626T180000Z
DTEND:20210626T181500Z
SUMMARY:Storytime: Sweet Stories with Honey Mahogany
DESCRIPTION:<p>A special reading for the whole family to enjoy.&nbsp;</p>

<p>Honey&nbsp;Mahogony&nbsp;of Drag Queen&nbsp;Storyhour, in honor of&nbsp;Pride, reads <em>Ambitious Girl</em>, written by Meena Harris, illustrated by Marissa Valdez and published by Little Brown Books for Young Readers.&nbsp;&nbsp;&nbsp;</p>

<p>When a young girl sees a strong woman on TV labeled as "too assertive" and "too ambitious," it sends her on a journey of discovery through past, present and future about the challenges faced by women and girls and the ways in which they can reframe, redefine and reclaim words meant to knock them down.</p>

<p>Tune in on&nbsp;<strong><a href="http://www.facebook.com/sfpl.org">Facebook</a></strong>.</p>

<p>Tip: You do not need a Facebook account to view a presentation when using the link, you can close the pop-up windows.</p>

<p>&nbsp;</p>

<p>Check out a <a href="http://sfpl.bibliocommons.com/item/show/4590634093">copy</a> from the Library today.</p>

LOCATION:Virtual Library
CLASS:PUBLIC
TRANSP:TRANSPARENT
END:VEVENT
BEGIN:VALARM
TRIGGER:-PT1440M
ACTION:DISPLAY
DESCRIPTION:Event Reminder - Storytime: Sweet Stories with Honey Mahogany
END:VALARM
END:VCALENDAR