BEGIN:VCALENDAR
VERSION:2.0
PRODID:SFPL Web Calendar
BEGIN:VEVENT
UID:31736@sfpl.org
DTSTAMP:20211110T180000Z
DTSTART:20211110T180000Z
DTEND:20211110T190000Z
SUMMARY:Demonstration: Introduction to Corporate Giving
DESCRIPTION:<p><strong>Is your organization ready to seek corporate support?</strong></p>

<p>Corporate grantmakers are different from traditional foundations in many ways. This class provides a basic overview of:</p>

<ul>
	<li>The different types of corporate giving</li>
	<li>What motivates corporations to give</li>
	<li>How to find potential corporate partners</li>
</ul>

<p>Outcomes:</p>

<ul>
	<li>Define different types of corporate philanthropy and their motivations.</li>
	<li>Learn how to find information about different types of corporate philanthropy.</li>
</ul>

<p>As a member of Candid’s Funding Information Network, San Francisco Public Library is pleased to offer monthly virtual trainings in various aspects of fundraising. Sign up for one or all!&nbsp;</p>

LOCATION:Virtual Library
CLASS:PUBLIC
TRANSP:TRANSPARENT
END:VEVENT
BEGIN:VALARM
TRIGGER:-PT1440M
ACTION:DISPLAY
DESCRIPTION:Event Reminder - Demonstration: Introduction to Corporate Giving
END:VALARM
END:VCALENDAR