BEGIN:VCALENDAR
VERSION:2.0
PRODID:SFPL Web Calendar
BEGIN:VEVENT
UID:31798@sfpl.org
DTSTAMP:20210701T020000Z
DTSTART:20210701T020000Z
DTEND:20210701T033000Z
SUMMARY:Write Now! Writers of Color Essential Truths Book Launch
DESCRIPTION:<p>Authors read from the new anthology, <em>Essential Truths: The Bay Area in Color.&nbsp;</em>Write Now! SF celebrates the authentic voices and real-world experiences of over 100 Black, Brown, Indigenous and People of Color. Join us for poetry, prose and artwork by Kim Shuck, Rafael Jesus Gonzalez, Tureeda Mikell, E.K. Keith, Celeste Chan and many others.</p>

<h3><a href="https://youtu.be/iXc2Z7SxAzQ"><strong>YouTube Live</strong></a></h3>

<p>Connect with Write Now SF - <a href="https://www.writenowsf.com/about-write-now">Website</a> | <a href="https://www.facebook.com/WriteNowSF/">Facebook</a></p>

LOCATION:Virtual Library
CLASS:PUBLIC
TRANSP:TRANSPARENT
END:VEVENT
BEGIN:VALARM
TRIGGER:-PT1440M
ACTION:DISPLAY
DESCRIPTION:Event Reminder - Write Now! Writers of Color Essential Truths Book Launch
END:VALARM
END:VCALENDAR