BEGIN:VCALENDAR
VERSION:2.0
PRODID:SFPL Web Calendar
BEGIN:VEVENT
UID:31824@sfpl.org
DTSTAMP:20210727T200000Z
DTSTART:20210727T200000Z
DTEND:20210727T210000Z
SUMMARY:Presentación: Lo básico sobre la planificación patrimonial 
DESCRIPTION:<p><span><span><span>El Tasador de San Francisco, Joaquín Torres, le da la bienvenida a Housing and Economic Rights Advocates para enseñarle a los participantes cómo proteger el patrimonio familiar.&nbsp;&nbsp; </span></span></span></p>

<p><span><span><span>Este taller explica la diferencia entre pasar propiedades a través de sucesión versus tener un plan patrimonial en orden. Aprenderá los componentes claves de un plan patrimonial, incluyendo un trust, poderes legales duraderos, directivas avanzadas de cuidado médico y un testamento. El Tasador de San Francisco, Joaquín Torres, le da la bienvenida a Housing and Economic Rights Advocates para presentar conjuntamente este taller.&nbsp; </span></span></span></p>

<p><span><span><span>Joaquín Torres prestó juramento como el Tasador-Registrador de San Francisco a la Alcaldesa London Breed el 8 de febrero de 2021. Previo a su nombramiento, Torres trabajó como el Director de la Oficina de Desarrollo Económico y Laboral de San Francisco desde el 2018, y fue el líder de iniciativas a lo largo de la ciudad para mitigar dificultades económicas de negocios y trabajadores durante la pandemia de COVID-19. A lo largo de los años, Torres ha aprovechado los recursos a través de los departamentos de la Ciudad para crear oportunidades para todos, ampliar el apoyo para negocios pequeños y trabajadores, desarrollar la capacidad y estabilidad para organizaciones sin ánimo de lucro con raíces locales, y maximizar la equidad del impacto económico y social para el beneficio de las comunidades, los residentes, los negocios y vecindarios san franciscanos. <a href="http://www.sfassessor.org/" target="_blank">www.sfassessor.org</a>&nbsp;&nbsp; </span></span></span></p>

<p><span><span><span>Housing &amp; Economic Rights Advocates (HERA) es una organización sin ánimo de lucro de servicios legales y defensa a lo largo del estado de California, dedicada a ayudar a los californianos, particularmente a los más vulnerables, a construir un futuro financiero seguro y sólido, libre de discriminación y abuso económico, en todos los aspectos de asuntos financieros de un hogar. HERA brinda gratuitamente servicios legales, talleres para consumidores, capacitaciones para profesionales y apoyo de organización comunitaria, crear soluciones innovativas e involucrarse en labor política a nivel local, estatal y nacional. <a href="http://www.heraca.org/" target="_blank">www.heraca.org</a>&nbsp; </span></span></span></p>

<p><span><span><span>Sigue a Joaquín en Facebook: <a href="http://www.facebook.com/joaquintorresSF" target="_blank">www.facebook.com/joaquintorresSF</a> </span></span></span></p>

<p>&nbsp;</p>

LOCATION:Virtual Library
CLASS:PUBLIC
TRANSP:TRANSPARENT
END:VEVENT
BEGIN:VALARM
TRIGGER:-PT1440M
ACTION:DISPLAY
DESCRIPTION:Event Reminder - Presentación: Lo básico sobre la planificación patrimonial 
END:VALARM
END:VCALENDAR