BEGIN:VCALENDAR
VERSION:2.0
PRODID:SFPL Web Calendar
BEGIN:VEVENT
UID:31827@sfpl.org
DTSTAMP:20210621T210000Z
DTSTART:20210621T210000Z
DTEND:20210621T211500Z
SUMMARY:Activity: Chia Seeds Challenge
DESCRIPTION:<p>Can you make edible and expanding goo to drink? Learn more about seeds and sprouting in this gloppy experiment. Gather water, chia seeds, measuring cups and spoons, a dish with a clear cover, a paper towel and some lemonade for this challenge with Librarian Anita.</p>

<p>Tune in to SFPL YouTube or Facebook.</p>

<p><a href="http://sfpl.org/stemchallenge">STEM Challenge Yo’Self</a> is created by the San Francisco Public Library from the Youth Librarian STEM team. Stay STEM-tastic by reading, learning and experimenting at home. Gather materials for a new challenge posted weekly at 2pm on Mondays followed by a Live STEM Zoom Lab with SFPL on Tuesdays at 2pm.&nbsp;</p>

LOCATION:Virtual Library
CLASS:PUBLIC
TRANSP:TRANSPARENT
END:VEVENT
BEGIN:VALARM
TRIGGER:-PT1440M
ACTION:DISPLAY
DESCRIPTION:Event Reminder - Activity: Chia Seeds Challenge
END:VALARM
END:VCALENDAR