BEGIN:VCALENDAR
VERSION:2.0
PRODID:SFPL Web Calendar
BEGIN:VEVENT
UID:31837@sfpl.org
DTSTAMP:20210622T210000Z
DTSTART:20210622T210000Z
DTEND:20210622T220000Z
SUMMARY:Demonstration: Chia Seeds Challenge
DESCRIPTION:<p>Join Librarian Anita for a gooey experiment with sprouts and seeds. Gather water, chia seeds, measuring cups and spoons, a dish with a clear cover, a paper towel and some lemonade.</p>

<p>Live STEM Lab with SFPL is created by the <a href="http://sfpl.org/stemchallenge">STEM Challenge Yo’Self</a>&nbsp;Youth Librarian team. Bring your questions and share your work.</p>

<p>Stay STEM-tastic by reading, learning and experimenting at home. Gather materials for a new challenge posted weekly on Mondays at 2pm. Then, register for a Live STEM Lab with SFPL on Tuesdays at 2pm.&nbsp;</p>

LOCATION:Virtual Library
CLASS:PUBLIC
TRANSP:TRANSPARENT
END:VEVENT
BEGIN:VALARM
TRIGGER:-PT1440M
ACTION:DISPLAY
DESCRIPTION:Event Reminder - Demonstration: Chia Seeds Challenge
END:VALARM
END:VCALENDAR