BEGIN:VCALENDAR
VERSION:2.0
PRODID:SFPL Web Calendar
BEGIN:VEVENT
UID:31940@sfpl.org
DTSTAMP:20210805T170000Z
DTSTART:20210805T170000Z
DTEND:20210805T183000Z
SUMMARY:Presentation: LinkedIn Profile Tips for Job Search
DESCRIPTION:<p>Managers and recruiters are looking at LinkedIn every day to find or vet candidates for their job openings.&nbsp; An optimized profile will not only attract recruiters but will also enhance your networking. Bring your enabled LinkedIn account and questions that you have about the profile. We talk about your photo, the headline, the summary/about section, how to cover your experience and skills and more.&nbsp;&nbsp;</p>

<p>&nbsp;&nbsp;</p>

<p>David G. Robins is the Senior Instructor – Job Search Accelerator (JSA) Program at JVS-San Francisco. He has been an instructor in job search skills for over 10 years and is also a Career Advisor. His background includes experience in large multi-national companies, small and medium size companies, non-profits and government. He earned his certificate as a Certified Professional in Learning &amp; Performance (CPLP) from the international Association of Talent Development.&nbsp;</p>

LOCATION:Virtual Library
CLASS:PUBLIC
TRANSP:TRANSPARENT
END:VEVENT
BEGIN:VALARM
TRIGGER:-PT1440M
ACTION:DISPLAY
DESCRIPTION:Event Reminder - Presentation: LinkedIn Profile Tips for Job Search
END:VALARM
END:VCALENDAR