BEGIN:VCALENDAR
VERSION:2.0
PRODID:SFPL Web Calendar
BEGIN:VEVENT
UID:32113@sfpl.org
DTSTAMP:20210918T200000Z
DTSTART:20210918T200000Z
DTEND:20210918T204500Z
SUMMARY:Taller: Clase de baile de reguetón
DESCRIPTION:<p><span><span><span>El reguetón se centra en los movimientos fuertes y sensuales de la cadera (comúnmente conocidos como baile "perreo") y a menudo incorpora movimientos de hip hop y técnica de baile latino. Muévete en esta clase de nivel principiante/intermedio impartida por Sandro Álvarez de <a href="http://www.raestudios-sf.com/" target="_blank">Rae Studios</a>, San Francisco. Para mayores de 12 años.&nbsp; </span></span></span></p>

<p><strong><span><span><span>Calzado sugerido:&nbsp;&nbsp;</span></span></span></strong><span><span><span>Zapatos deportivos&nbsp;&nbsp;</span></span></span></p>

<p><span><span><span><strong>Sobre el instructor:</strong> Sandro Álvarez es un bailarín y coreógrafo profesional con más de 14 años de experiencia internacional. Es licenciado en Pedagogía con especialización en Educación Física y Salud. Es el fundador, director y coreógrafo del grupo chileno BlackBeast, con el que participó durante cuatro años consecutivos en la final de Hip Hop International en EU. Sandro es miembro de la categoría de adultos del grupo Killtroz (previamente llamado Clandestinos), que quedó en el puesto 24 del ranking mundial en 2014. En 2019 audicionó junto a cientos de bailarines chilenos y fue seleccionado entre los 10 mejores participantes para la tercera temporada del reality de televisión RED, obteniendo el 5º lugar. Asimismo, participó como staff de bailarines en el Festival Internacional de la Canción de Viña del Mar en 2020. </span></span></span></p>

LOCATION:Virtual Library
CLASS:PUBLIC
TRANSP:TRANSPARENT
END:VEVENT
BEGIN:VALARM
TRIGGER:-PT1440M
ACTION:DISPLAY
DESCRIPTION:Event Reminder - Taller: Clase de baile de reguetón
END:VALARM
END:VCALENDAR