BEGIN:VCALENDAR
VERSION:2.0
PRODID:SFPL Web Calendar
BEGIN:VEVENT
UID:32655@sfpl.org
DTSTAMP:20211014T190000Z
DTSTART:20211014T190000Z
DTEND:20211014T210000Z
SUMMARY:Thursday at Noon Film Series
DESCRIPTION:
LOCATION:Main Library - Koret Auditorium
CLASS:PUBLIC
TRANSP:TRANSPARENT
END:VEVENT
BEGIN:VALARM
TRIGGER:-PT1440M
ACTION:DISPLAY
DESCRIPTION:Event Reminder - Thursday at Noon Film Series
END:VALARM
END:VCALENDAR