BEGIN:VCALENDAR
VERSION:2.0
PRODID:SFPL Web Calendar
BEGIN:VEVENT
UID:32680@sfpl.org
DTSTAMP:20211013T230000Z
DTSTART:20211013T230000Z
DTEND:20211014T000000Z
SUMMARY:Taller: Arte de cometas inspirado en Guatemala
DESCRIPTION:<p><span><span><span>Honra a tus seres queridos y crea una colorida cometa inspirada en Guatemala para colocarla en tu altar del Día de los Muertos. Para mayores de 8 años.&nbsp; </span></span></span></p>

<p><span><span><span>Reúne los siguientes materiales y herramientas con anticipación:&nbsp;&nbsp; </span></span></span></p>

<ul>
	<li><span><span><span>Plato redondo de papel (de tamaño grande si es posible)&nbsp;&nbsp; </span></span></span></li>
	<li><span><span><span>Regla&nbsp; </span></span></span></li>
	<li><span><span><span>Lápiz&nbsp;&nbsp; </span></span></span></li>
	<li><span><span><span>Marcadores o lápices de colores o crayones multicolores&nbsp;&nbsp;&nbsp; </span></span></span></li>
	<li><span><span><span>Papel de seda multicolor&nbsp;&nbsp;&nbsp; </span></span></span></li>
	<li><span><span><span>Tijeras&nbsp;&nbsp; </span></span></span></li>
	<li><span><span><span>Pegamento y/o cinta adhesiva&nbsp;&nbsp; </span></span></span></li>
	<li><span><span><span>Opcional: Foto / fotocopia de un ser querido que hayas perdido y quieras honrar este año. La foto debe caber en el centro del plato.&nbsp;&nbsp; </span></span></span></li>
</ul>

<p><span><span><span>Alejandra Ramírez es una artista de Salinas y del Área de la Bahía, educadora en artes y administradora de artes</span></span></span></p>

<p><a href="https://www.conintencion.com/">Alejandra Ramirez - sitio web</a></p>

LOCATION:Virtual Library
CLASS:PUBLIC
TRANSP:TRANSPARENT
END:VEVENT
BEGIN:VALARM
TRIGGER:-PT1440M
ACTION:DISPLAY
DESCRIPTION:Event Reminder - Taller: Arte de cometas inspirado en Guatemala
END:VALARM
END:VCALENDAR