BEGIN:VCALENDAR
VERSION:2.0
PRODID:SFPL Web Calendar
BEGIN:VEVENT
UID:32952@sfpl.org
DTSTAMP:20211015T003000Z
DTSTART:20211015T003000Z
DTEND:20211015T011500Z
SUMMARY:Autores: Leticia Hernández-Linares con Robert Liu-Trujillo   
DESCRIPTION:<p>Leticia Hernández-Linares y Robert Liu-Trujillo,&nbsp;artistas&nbsp;y&nbsp;activistas&nbsp;de&nbsp;larga&nbsp;trayectoria&nbsp;en&nbsp;el&nbsp;Área&nbsp;de la Bahía,&nbsp;comparten&nbsp;su&nbsp;proceso&nbsp;de&nbsp;trabajo&nbsp;conjunto con&nbsp;el&nbsp;proyecto&nbsp;The Rise-Home Stories para&nbsp;crear&nbsp;Alejandria&nbsp;Fight Back/¡La&nbsp;Lucha&nbsp;de&nbsp;Alejandria!&nbsp;Acompaña&nbsp;a&nbsp;Alejandria, de&nbsp;nueve&nbsp;años,&nbsp;en&nbsp;su&nbsp;lucha&nbsp;por&nbsp;salvar&nbsp;su&nbsp;barrio&nbsp;en&nbsp;este&nbsp;libro&nbsp;ilustrado&nbsp;bilingüe&nbsp;español-inglés, que se centra&nbsp;en&nbsp;el&nbsp;activismo&nbsp;juvenil&nbsp;en&nbsp;medio de la&nbsp;inseguridad&nbsp;de&nbsp;vivienda&nbsp;y&nbsp;el&nbsp;aburguesamiento. Un&nbsp;evento&nbsp;imprescindible&nbsp;para&nbsp;niños&nbsp;y sus&nbsp;familias.&nbsp;</p>

<p>&nbsp;</p>

<p><strong><a href="https://youtu.be/ECbddPoIjB4" rel="noreferrer noopener" target="_blank">Sintonízate con YouTube</a>&nbsp;</strong></p>

<p>&nbsp;</p>

<p><span><span><span><strong>Leticia Hernández-Linares</strong> es una escritora y artista interdisciplinar bilingüe y educadora en materia de justicia racial. Hija de inmigrantes salvadoreños de primera generación, es autora de </span></span></span><a href="https://sfpl.bibliocommons.com/v2/record/S93C4482436">Mucha Muchacha, Too Much Girl</a><span><span><span>l. Todo su trabajo creativo y educativo incorpora la narración de historias y el arte, herramientas importantes para celebrar cultura y comunidad. Lleva veinticinco años viviendo en el mismo bloque del distrito de la Misión de San Francisco. Trabaja para preservar el espíritu y la historia de su barrio, junto con sus dos hijos artivistas, y sus vecinos y comunidad. Encuéntrala en Twitter </span></span></span><span><span><span>@joinleticia.&nbsp; </span></span></span></p>

<p>&nbsp;</p>

<p><span><span><span><strong>Robert Liu-Trujillo</strong> ilustró este libro. Lleva toda la vida en el Área de la Bahía. Nació en Oakland, California, y es hijo de estudiantes activistas que veían mucha ciencia-ficción y lo llevaban a muchas manifestaciones. Siempre dibujando, Rob creció como artista, enamorándose del grafiti, las bellas artes, la ilustración, los murales y los libros infantiles. A través de la narración, ha podido raspar la superficie de muchas historias no contadas. Es el autor e ilustrador de </span></span></span><a href="https://sfpl.bibliocommons.com/v2/record/S93C3264601">Furqan’s First Flat Top</a>.<span><span><span> Más información sobre Rob en </span></span></span><a href="https://work.robdontstop.com">work.robdontstop.com</a>.&nbsp;</p>

<p>&nbsp;</p>

<p><span><span><span><strong>El proyecto Rise-Home Stories </strong>es una colaboración innovadora entre narradores en medios múltiples y defensores de la justicia social de varias organizaciones de base que trabajan en el nexo entre la vivienda, las tierras y la justicia racial en Estados Unidos. Para saber más, visita </span></span></span><a href="http://www.risehomestories.com">risehomestories.com</a><span><span><span>.&nbsp; </span></span></span></p>

LOCATION:Virtual Library
CLASS:PUBLIC
TRANSP:TRANSPARENT
END:VEVENT
BEGIN:VALARM
TRIGGER:-PT1440M
ACTION:DISPLAY
DESCRIPTION:Event Reminder - Autores: Leticia Hernández-Linares con Robert Liu-Trujillo   
END:VALARM
END:VCALENDAR