BEGIN:VCALENDAR
VERSION:2.0
PRODID:SFPL Web Calendar
BEGIN:VEVENT
UID:33388@sfpl.org
DTSTAMP:20211108T200000Z
DTSTART:20211108T200000Z
DTEND:20211108T213000Z
SUMMARY:Workshop: TBBC Writer's Salon
DESCRIPTION:<p>Bring a poem or story that you have written - or just love – to share with others. Each person will have time to introduce and read what they have brought, with discussion to follow. This virtual program is intended for the blind and visually impaired community.</p>

<p>&nbsp;</p>

<p>For more information or to register for this event, please call us at 415 557-4253 or email us at TalkingBooks@sfpl.org.</p>

LOCATION:Virtual Library
CLASS:PUBLIC
TRANSP:TRANSPARENT
END:VEVENT
BEGIN:VALARM
TRIGGER:-PT1440M
ACTION:DISPLAY
DESCRIPTION:Event Reminder - Workshop: TBBC Writer's Salon
END:VALARM
END:VCALENDAR