BEGIN:VCALENDAR
VERSION:2.0
PRODID:SFPL Web Calendar
BEGIN:VEVENT
UID:33470@sfpl.org
DTSTAMP:20211014T011500Z
DTSTART:20211014T011500Z
DTEND:20211014T024500Z
SUMMARY:Workshop: Effective Study Habits for Teens
DESCRIPTION:<p>Assess organizational habits, strategies and study skills and apply newly learned strategies to help in everyday activities and tasks. Space limited. For 9th–12th graders who live or attend school in San Francisco.</p>

<p>Study Smart Tutors is committed to and passionate about providing equitable college and career programming to close opportunity gaps.</p>

<p>This virtual program is offered as a one-time event only by agreement with the presenter(s). Please check out other outstanding Library programs on our <a href="http://youtube.com/sanfranciscolibrary">YouTube channel</a>.&nbsp;</p>

<p><a href="https://studysmart.us/">Study Smart Tutors - Website</a></p>

LOCATION:Virtual Library
CLASS:PUBLIC
TRANSP:TRANSPARENT
END:VEVENT
BEGIN:VALARM
TRIGGER:-PT1440M
ACTION:DISPLAY
DESCRIPTION:Event Reminder - Workshop: Effective Study Habits for Teens
END:VALARM
END:VCALENDAR