BEGIN:VCALENDAR
VERSION:2.0
PRODID:SFPL Web Calendar
BEGIN:VEVENT
UID:33488@sfpl.org
DTSTAMP:20211110T010000Z
DTSTART:20211110T010000Z
DTEND:20211110T020000Z
SUMMARY:Workshop: College Admissions 101 for Teens (Class C)
DESCRIPTION:<p>Learn about resources to effectively apply to and matriculate at the college or university of choice in this course. Examine the different post-graduation pathways, specific requirements—including the A–G requirements—and how to decide what type of institution is the ‘best fit’. Space limited. For 9th–12th graders who live or attend school in San Francisco.</p>

<p>Study Smart Tutors is committed to and passionate about providing equitable college and career programming to close opportunity gaps.</p>

<p>This virtual program is offered as a one-time event only by agreement with the presenter(s). Please check out other outstanding Library programs on our <a href="http://youtube.com/sanfranciscolibrary">YouTube channel</a>.</p>

<p><a href="https://studysmart.us/">Study Smart Tutors - Website</a></p>

LOCATION:Virtual Library
CLASS:PUBLIC
TRANSP:TRANSPARENT
END:VEVENT
BEGIN:VALARM
TRIGGER:-PT1440M
ACTION:DISPLAY
DESCRIPTION:Event Reminder - Workshop: College Admissions 101 for Teens (Class C)
END:VALARM
END:VCALENDAR