BEGIN:VCALENDAR
VERSION:2.0
PRODID:SFPL Web Calendar
BEGIN:VEVENT
UID:33515@sfpl.org
DTSTAMP:20211208T010000Z
DTSTART:20211208T010000Z
DTEND:20211208T023000Z
SUMMARY:Workshop: Basic Budgeting for Teens (Class A)
DESCRIPTION:<p>Understand the basics of financial literacy and budgeting, including analyzing bank statements, the different parts of checks & deposit slips and tracking and managing spending. Space limited. For 9th&ndash;12th graders who live or attend school in San Francisco.</p>

<p>Study Smart Tutors is committed to and passionate about providing equitable college and career programming to close opportunity gaps.&nbsp;</p>

<p>This virtual program is offered as a one-time event only by agreement with the presenter(s). Please check out other outstanding Library programs on our <a href="http://youtube.com/sanfranciscolibrary">YouTube channel</a>.</p>

<p><a href="https://studysmart.us/">Study Smart Tutors - Website</a></p>
LOCATION:Virtual Library
CLASS:PUBLIC
TRANSP:TRANSPARENT
END:VEVENT
BEGIN:VALARM
TRIGGER:-PT1440M
ACTION:DISPLAY
DESCRIPTION:Event Reminder - Workshop: Basic Budgeting for Teens (Class A)
END:VALARM
END:VCALENDAR